BEGIN:VCALENDAR
VERSION:2.0
PRODID:-//My Jefferson Beautification, Inc. - ECPv6.15.18//NONSGML v1.0//EN
CALSCALE:GREGORIAN
METHOD:PUBLISH
X-ORIGINAL-URL:https://jeffersonbeautification.org
X-WR-CALDESC:Events for My Jefferson Beautification, Inc.
REFRESH-INTERVAL;VALUE=DURATION:PT1H
X-Robots-Tag:noindex
X-PUBLISHED-TTL:PT1H
BEGIN:VTIMEZONE
TZID:UTC
BEGIN:STANDARD
TZOFFSETFROM:+0000
TZOFFSETTO:+0000
TZNAME:UTC
DTSTART:20230101T000000
END:STANDARD
END:VTIMEZONE
BEGIN:VEVENT
DTSTART;TZID=UTC:20240417T163000
DTEND;TZID=UTC:20240417T163000
DTSTAMP:20260416T232001
CREATED:20240105T050226Z
LAST-MODIFIED:20240105T050226Z
UID:10000006-1713371400-1713371400@jeffersonbeautification.org
SUMMARY:Board Meeting
DESCRIPTION:
URL:https://jeffersonbeautification.org/event/board-meeting/
LOCATION:Metairie Bank Board Room\, 3344 Metairie Rd\, Metairie\, 70001\, United States
CATEGORIES:Board Meeting
END:VEVENT
END:VCALENDAR